BEGIN:VCALENDAR
VERSION:2.0
PRODID:gruene-gera.de
METHOD:PUBLISH
BEGIN:VTIMEZONE
TZID:Europe/Berlin
X-LIC-LOCATION:Europe/Berlin
BEGIN:DAYLIGHT
TZOFFSETFROM:+0100
TZOFFSETTO:+0200
TZNAME:CEST
DTSTART:19700329T020000
RRULE:FREQ=YEARLY;INTERVAL=1;BYDAY=-1SU;BYMONTH=3
END:DAYLIGHT
BEGIN:STANDARD
TZOFFSETFROM:+0200
TZOFFSETTO:+0100
TZNAME:CET
DTSTART:19701025T030000
RRULE:FREQ=YEARLY;INTERVAL=1;BYDAY=-1SU;BYMONTH=10
END:STANDARD
END:VTIMEZONE
BEGIN:VEVENT
UID:c45d24a2d0b61a07ac1ea61e1704c87e@gruene-gera.de
URL;VALUE=URI:https://gruene-gera.de/termine/einladung-zum-frauenbrunch/
LOCATION:Grünes Büro, Heinrichstraße 50, Gera
SUMMARY:Einladung zum Frauenbrunch
DESCRIPTION;ALTREP="data:text/html,%0A%3Cp%3EUnser%201.%20Frauenbrunch%20
 im%20Jahr%202025%20findet%20am%3C%2Fp%3E%0A%0A%0A%0A%3Cp%3E%3Cstrong%3ESa
 mstag%2C%20den%2018.%20Januar%202025%2C%20ab%2010%20Uhr%3C%2Fstrong%3E%20
 in%20unserem%20%3Ca%20href%3D%22https%3A%2F%2Fwww.openstreetmap.org%2Fnod
 e%2F4007597912%23map%3D19%2F50.874384%2F12.076871%22%20data-type%3D%22lin
 k%22%20data-id%3D%22https%3A%2F%2Fwww.openstreetmap.org%2Fway%2F145195360
 %22%3EGr%C3%BCnen%20B%C3%BCro%2C%20Heinrichstr.%2050%3C%2Fa%3E%2C%20in%20
 Gera%20statt.%3C%2Fp%3E%0A%0A%0A%0A%3Cp%3EZu%20Gast%20ist%20%3Ca%20href%3
 D%22https%3A%2F%2Fgruene-jena.de%2Fchristina-prothmann%2F%22%20data-type%
 3D%22link%22%20data-id%3D%22https%3A%2F%2Fgruene-jena.de%2Fchristina-prot
 hmann%2F%22%3E%3Cstrong%3EChristina%20Prothmann%3C%2Fstrong%3E%3C%2Fa%3E%
 20vom%20%3Ca%20href%3D%22https%3A%2F%2Fgruene-jena.de%2F%22%20data-type%3
 D%22link%22%20data-id%3D%22https%3A%2F%2Fgruene-jena.de%2F%22%3EKreisverb
 and%20B%C3%BCndnis%2090%2FDie%20Gr%C3%BCnen%20in%20Jena%3C%2Fa%3E.%20Sie%
 20wird%20%C3%BCber%20ihre%20T%C3%A4tigkeit%20als%20Ortsteilb%C3%BCrgermei
 sterin%20in%20Jena-S%C3%BCd%20berichten.%3C%2Fp%3E%0A%0A%0A%0A%3Cp%3EBei%
 20dem%20traditionellen%20%3Cstrong%3EMitbringbuffet%3C%2Fstrong%3E%20wird
 %20es%20gen%C3%BCgend%20Gelegenheit%20zum%20Austausch%20und%20Gespr%C3%A4
 ch%20geben.%20Bitte%20meldet%20euch%20zur%20besseren%20Koordinierung%20ge
 rn%20an%20via%20%3Ca%20href%3D%22mailto%3Ainfo%40gruene-gera.de%22%3Einfo
 %40gruene-gera.de%3C%2Fa%3E.%3C%2Fp%3E%0A%0A%0A%0A%3Cp%3EWir%20freuen%20u
 ns%20auf%20einen%20unterhaltsamen%20und%20anregenden%20Vormittag%21%3C%2F
 p%3E%0A%0A%0A%0A%3Cp%3E%3C%2Fp%3E%0A":Unser 1. Frauenbrunch im Jahr 2025 
 findet am\n\nSamstag\, den 18. Januar 2025\, ab 10 Uhr in unserem Grünen
  Büro\, Heinrichstr. 50\, in Gera statt.\n\nZu Gast ist Christina Prothm
 ann vom Kreisverband Bündnis 90/Die Grünen in Jena. Sie wird über ihre
  Tätigkeit als Ortsteilbürgermeisterin in Jena-Süd berichten.\n\nBei d
 em traditionellen Mitbringbuffet wird es genügend Gelegenheit zum Austau
 sch und Gespräch geben. Bitte meldet euch zur besseren Koordinierung ger
 n an via info@gruene-gera.de.\n\nWir freuen uns auf einen unterhaltsamen 
 und anregenden Vormittag!
CLASS:PUBLIC
DTSTART;TZID=Europe/Berlin:20250118T100000
DTEND;TZID=Europe/Berlin:20250118T110000
DTSTAMP:20260422T103928
END:VEVENT
END:VCALENDAR