BEGIN:VCALENDAR
VERSION:2.0
PRODID:gruene-gera.de
METHOD:PUBLISH
BEGIN:VTIMEZONE
TZID:Europe/Berlin
X-LIC-LOCATION:Europe/Berlin
BEGIN:DAYLIGHT
TZOFFSETFROM:+0100
TZOFFSETTO:+0200
TZNAME:CEST
DTSTART:19700329T020000
RRULE:FREQ=YEARLY;INTERVAL=1;BYDAY=-1SU;BYMONTH=3
END:DAYLIGHT
BEGIN:STANDARD
TZOFFSETFROM:+0200
TZOFFSETTO:+0100
TZNAME:CET
DTSTART:19701025T030000
RRULE:FREQ=YEARLY;INTERVAL=1;BYDAY=-1SU;BYMONTH=10
END:STANDARD
END:VTIMEZONE
BEGIN:VEVENT
UID:cab7813fdac74801563be5b614004f6e@gruene-gera.de
URL;VALUE=URI:https://gruene-gera.de/termine/stadtratssitzung-im-dezember
 /
LOCATION:Kultur- und Kongresszentrum, Schloßstraße 1, Gera
SUMMARY:Stadtratssitzung im Dezember
DESCRIPTION;ALTREP="data:text/html,%0A%3Cp%3EDie%20Stadtratssitzung%20im%
 20Dezember%20findet%20am%20Mittwoch%20dem%2007.12.2022%20statt.%3C%2Fp%3E
 %0A%0A%0A%0A%3Cp%3EHier%20geht%20es%20zur%C2%A0vorl%C3%A4ufigen%C2%A0%3Ca
 %20href%3D%22https%3A%2F%2Fgera.ratsinfomanagement.net%2Ftops%2F%3F__%3DU
 GhVM0hpd2NXNFdFcExjZYUCoUhWSXPHs5fluhX0iA0%22%3ETagesordnung%3C%2Fa%3E%C2
 %A0und%20den%20dazu%20geh%C3%B6rigen%20Informationen%20im%20Ratsinformati
 onssystem%20der%20Stadt%20Gera.%3C%2Fp%3E%0A%0A%0A%0A%3Cp%3EFalls%20ihr%2
 0die%20Sitzung%20nicht%20pers%C3%B6nlich%20besuchen%20wollt%2C%20findet%2
 0ihr%20hier%20den%20Link%20zum%26nbsp%3B%3Ca%20rel%3D%22noreferrer%20noop
 ener%22%20href%3D%22https%3A%2F%2Funser.gera.de%2Fstadtrat%2Flivestreamin
 g%2F%22%20target%3D%22_blank%22%3ELivestream%3C%2Fa%3E.%3C%2Fp%3E%0A":Die
  Stadtratssitzung im Dezember findet am Mittwoch dem 07.12.2022 statt.\n\
 nHier geht es zur vorläufigen Tagesordnung und den dazu gehörigen In
 formationen im Ratsinformationssystem der Stadt Gera.\n\nFalls ihr die Si
 tzung nicht persönlich besuchen wollt\, findet ihr hier den Link zum Li
 vestream.
CLASS:PUBLIC
DTSTART;TZID=Europe/Berlin:20221207T173000
DTEND;TZID=Europe/Berlin:20221207T220000
DTSTAMP:20260420T010843
END:VEVENT
END:VCALENDAR