BEGIN:VCALENDAR
VERSION:2.0
PRODID:gruene-gera.de
METHOD:PUBLISH
BEGIN:VTIMEZONE
TZID:Europe/Berlin
X-LIC-LOCATION:Europe/Berlin
BEGIN:DAYLIGHT
TZOFFSETFROM:+0100
TZOFFSETTO:+0200
TZNAME:CEST
DTSTART:19700329T020000
RRULE:FREQ=YEARLY;INTERVAL=1;BYDAY=-1SU;BYMONTH=3
END:DAYLIGHT
BEGIN:STANDARD
TZOFFSETFROM:+0200
TZOFFSETTO:+0100
TZNAME:CET
DTSTART:19701025T030000
RRULE:FREQ=YEARLY;INTERVAL=1;BYDAY=-1SU;BYMONTH=10
END:STANDARD
END:VTIMEZONE
BEGIN:VEVENT
UID:6fecb418418abfd70571b2c2c243305b@gruene-gera.de
URL;VALUE=URI:https://gruene-gera.de/termine/stadtratsstammtisch-am-01-ma
 erz/
LOCATION:Zapfhahn
SUMMARY:Stadtratsstammtisch am 01. März
DESCRIPTION;ALTREP="data:text/html,%0A%3Cp%3EDer%20Stadtratsstammtisch%20
 findet%20wie%20immer%20am%20Mittwoch%20in%20der%20Woche%20vor%20der%20Sta
 dtratssitzung%20statt.%20Diesmal%20sehen%20wir%20uns%20also%20am%2001.%20
 M%C3%A4rz.%26nbsp%3BWir%20treffen%20uns%20um%26nbsp%3B19%20Uhr%20im%20Lok
 al%20%E2%80%9EZapfhahn%E2%80%9C%26nbsp%3Bam%20Steinweg%207%21%3C%2Fp%3E%0
 A%0A%0A%0A%3Cp%3EMit%20dabei%20ist%20der%20Fraktionsvorsitzende%20Nils%20
 und%20die%20Gesch%C3%A4ftsf%C3%BChrerin%20der%20Fraktion%20Johanna.%3C%2F
 p%3E%0A%0A%0A%0A%3Cp%3EDie%20Themen%20des%20Abends%3A%3Cbr%3E-%20unser%20
 Antrag%20zur%20Erstellung%20einer%20kommunalen%20W%C3%A4rmeplanung%3Cbr%3
 E-%20keine%20Ansiedlung%20der%20Bauerfeind%20AG%20am%20Bieblacher%20Berg%
 20-%20Gewerbefl%C3%A4che%20in%20Gera%3Cbr%3E-%20Schulnetzplan%20-%20Schul
 verbund%20der%20Grundschulen%20%22Tabaluga%22%20und%20%22Am%20Bieblacher%
 20Hang%22%3C%2Fp%3E%0A%0A%0A%0A%3Cp%3EWarum%20ein%20Stammtisch%3F%3C%2Fp%
 3E%0A%0A%0A%0A%3Cp%3EPolitik%20scheint%20manchmal%20weit%20weg%20zu%20sei
 n%20von%20den%20Menschen.%20Lokalpolitikern%20begegnet%20oft%20Frust%20un
 d%20Unverst%C3%A4ndnis%3A%20Menschen%20mit%20dem%20Gef%C3%BChl%2C%20dass%
 20die%20Politik%20nichts%20mit%20ihrem%20Leben%20zu%20tun%20hat.%20Das%20
 wollen%20wir%20%C3%A4ndern.%3C%2Fp%3E%0A%0A%0A%0A%3Cp%3ELassen%20Sie%20un
 s%20miteinander%20reden%21%20Wir%20wollen%20uns%20Ihren%26nbsp%3BFragen%2
 0stellen%2C%20Ihnen%20erkl%C3%A4ren%2C%20warum%20wir%20uns%20als%20Frakti
 on%20von%20B%C3%BCndnis%2090%2FDie%20Gr%C3%BCnen%20im%20Stadtrat%20f%C3%B
 Cr%20eine%20Sache%20und%20gegen%20eine%20andere%20entscheiden.%26nbsp%3BS
 agen%20Sie%20uns%20Ihre%20Meinung%2C%20geben%20Sie%20uns%20zu%20denken%21
 %26nbsp%3BDie%20Impulse%2C%20die%20wir%20in%20diesem%20dem%26nbsp%3Bwicht
 igstem%20unserer%20Gespr%C3%A4chsformate%26nbsp%3Bbekommen%2C%20flie%C3%9
 Fen%20in%20unsere%26nbsp%3Bpolitischen%20Initiativen%26nbsp%3Bund%20unser
 e%26nbsp%3BReden%20im%20Stadtrat%26nbsp%3Bein.%20Wir%20sind%20ein%20direk
 tes%20Sprachrohr%20der%20Einwohnerinnen%20und%20Einwohner%20Geras.%3C%2Fp
 %3E%0A":Der Stadtratsstammtisch findet wie immer am Mittwoch in der Woche
  vor der Stadtratssitzung statt. Diesmal sehen wir uns also am 01. März.
  Wir treffen uns um 19 Uhr im Lokal „Zapfhahn“ am Steinweg 7!\n\nM
 it dabei ist der Fraktionsvorsitzende Nils und die Geschäftsführerin de
 r Fraktion Johanna.\n\nDie Themen des Abends:- unser Antrag zur Erstellun
 g einer kommunalen Wärmeplanung- keine Ansiedlung der Bauerfeind AG am B
 ieblacher Berg - Gewerbefläche in Gera- Schulnetzplan - Schulverbund der
  Grundschulen "Tabaluga" und "Am Bieblacher Hang"\n\nWarum ein Stammtisch
 ?\n\nPolitik scheint manchmal weit weg zu sein von den Menschen. Lokalpol
 itikern begegnet oft Frust und Unverständnis: Menschen mit dem Gefühl\,
  dass die Politik nichts mit ihrem Leben zu tun hat. Das wollen wir ände
 rn.\n\nLassen Sie uns miteinander reden! Wir wollen uns Ihren Fragen ste
 llen\, Ihnen erklären\, warum wir uns als Fraktion von Bündnis 90/Die G
 rünen im Stadtrat für eine Sache und gegen eine andere entscheiden. Sa
 gen Sie uns Ihre Meinung\, geben Sie uns zu denken! Die Impulse\, die wi
 r in diesem dem wichtigstem unserer Gesprächsformate bekommen\, fließ
 en in unsere politischen Initiativen und unsere Reden im Stadtrat ein
 . Wir sind ein direktes Sprachrohr der Einwohnerinnen und Einwohner Geras
 .
CLASS:PUBLIC
DTSTART;TZID=Europe/Berlin:20230301T190000
DTEND;TZID=Europe/Berlin:20230301T210000
DTSTAMP:20260424T123739
END:VEVENT
END:VCALENDAR